BEGIN:VCALENDAR
VERSION:2.0
PRODID:-//Western Suffolk Boces - ECPv6.15.20//NONSGML v1.0//EN
CALSCALE:GREGORIAN
METHOD:PUBLISH
X-ORIGINAL-URL:https://www.wsboces.org
X-WR-CALDESC:Events for Western Suffolk Boces
REFRESH-INTERVAL;VALUE=DURATION:PT1H
X-Robots-Tag:noindex
X-PUBLISHED-TTL:PT1H
BEGIN:VTIMEZONE
TZID:America/New_York
BEGIN:DAYLIGHT
TZOFFSETFROM:-0500
TZOFFSETTO:-0400
TZNAME:EDT
DTSTART:20150308T070000
END:DAYLIGHT
BEGIN:STANDARD
TZOFFSETFROM:-0400
TZOFFSETTO:-0500
TZNAME:EST
DTSTART:20151101T060000
END:STANDARD
BEGIN:DAYLIGHT
TZOFFSETFROM:-0500
TZOFFSETTO:-0400
TZNAME:EDT
DTSTART:20160313T070000
END:DAYLIGHT
BEGIN:STANDARD
TZOFFSETFROM:-0400
TZOFFSETTO:-0500
TZNAME:EST
DTSTART:20161106T060000
END:STANDARD
BEGIN:DAYLIGHT
TZOFFSETFROM:-0500
TZOFFSETTO:-0400
TZNAME:EDT
DTSTART:20170312T070000
END:DAYLIGHT
BEGIN:STANDARD
TZOFFSETFROM:-0400
TZOFFSETTO:-0500
TZNAME:EST
DTSTART:20171105T060000
END:STANDARD
END:VTIMEZONE
BEGIN:VEVENT
DTSTART;TZID=America/New_York:20160308T183000
DTEND;TZID=America/New_York:20160308T203000
DTSTAMP:20260422T115307
CREATED:20240210T053315Z
LAST-MODIFIED:20240210T053315Z
UID:20433-1457461800-1457469000@www.wsboces.org
SUMMARY:BOCES Board Meeting
DESCRIPTION:The Regular meeting of the Board of Western Suffolk BOCES will be held at the Western Suffolk BOCES Administrative Offices\, 507 Deer Park Road\, Dix Hills\, NY 11746.  The Regular meeting convenes at 6:30 pm in the Small Conference Room immediately followed by an Executive Session. The public portion resumes\, beginning with Item Number 1 on the Agenda\, at 7:30 pm in the Large Conference Room.
URL:https://www.wsboces.org/event/boces-board-meeting-42/
LOCATION:NY
CATEGORIES:Central
END:VEVENT
BEGIN:VEVENT
DTSTART;VALUE=DATE:20160324
DTEND;VALUE=DATE:20160326
DTSTAMP:20260422T115307
CREATED:20240210T040913Z
LAST-MODIFIED:20240210T040913Z
UID:20200-1458777600-1458950399@www.wsboces.org
SUMMARY:Offices Open: Schools Closed
DESCRIPTION:
URL:https://www.wsboces.org/event/offices-open-schools-closed-4/
LOCATION:NY
CATEGORIES:Central
END:VEVENT
BEGIN:VEVENT
DTSTART;VALUE=DATE:20160325
DTEND;VALUE=DATE:20160327
DTSTAMP:20260422T115307
CREATED:20240210T043558Z
LAST-MODIFIED:20240210T043558Z
UID:20262-1458864000-1459036799@www.wsboces.org
SUMMARY:Schools & Offices Closed
DESCRIPTION:
URL:https://www.wsboces.org/event/schools-offices-closed-8/
LOCATION:NY
CATEGORIES:Central
END:VEVENT
BEGIN:VEVENT
DTSTART;VALUE=DATE:20160328
DTEND;VALUE=DATE:20160330
DTSTAMP:20260422T115307
CREATED:20240210T040933Z
LAST-MODIFIED:20240210T040933Z
UID:20201-1459123200-1459295999@www.wsboces.org
SUMMARY:Offices Open: Schools Closed
DESCRIPTION:
URL:https://www.wsboces.org/event/offices-open-schools-closed-5/
LOCATION:NY
CATEGORIES:Central
END:VEVENT
BEGIN:VEVENT
DTSTART;TZID=America/New_York:20160331T190000
DTEND;TZID=America/New_York:20160331T210000
DTSTAMP:20260422T115307
CREATED:20240210T071515Z
LAST-MODIFIED:20240210T071529Z
UID:20574-1459450800-1459458000@www.wsboces.org
SUMMARY:PTA Night
DESCRIPTION:PTA Night\, Wilson Tech\, Dix Hills \n 
URL:https://www.wsboces.org/event/pta-night/
LOCATION:Wilson Tech\,  Dix Hills\, 17 Westminster Ave\, Dix Hills\,\, New York\, NY\, 11746\, United States
CATEGORIES:Central
END:VEVENT
END:VCALENDAR