BEGIN:VCALENDAR
VERSION:2.0
PRODID:-//Western Suffolk Boces - ECPv6.15.20//NONSGML v1.0//EN
CALSCALE:GREGORIAN
METHOD:PUBLISH
X-ORIGINAL-URL:https://www.wsboces.org
X-WR-CALDESC:Events for Western Suffolk Boces
REFRESH-INTERVAL;VALUE=DURATION:PT1H
X-Robots-Tag:noindex
X-PUBLISHED-TTL:PT1H
BEGIN:VTIMEZONE
TZID:America/New_York
BEGIN:DAYLIGHT
TZOFFSETFROM:-0500
TZOFFSETTO:-0400
TZNAME:EDT
DTSTART:20150308T070000
END:DAYLIGHT
BEGIN:STANDARD
TZOFFSETFROM:-0400
TZOFFSETTO:-0500
TZNAME:EST
DTSTART:20151101T060000
END:STANDARD
BEGIN:DAYLIGHT
TZOFFSETFROM:-0500
TZOFFSETTO:-0400
TZNAME:EDT
DTSTART:20160313T070000
END:DAYLIGHT
BEGIN:STANDARD
TZOFFSETFROM:-0400
TZOFFSETTO:-0500
TZNAME:EST
DTSTART:20161106T060000
END:STANDARD
BEGIN:DAYLIGHT
TZOFFSETFROM:-0500
TZOFFSETTO:-0400
TZNAME:EDT
DTSTART:20170312T070000
END:DAYLIGHT
BEGIN:STANDARD
TZOFFSETFROM:-0400
TZOFFSETTO:-0500
TZNAME:EST
DTSTART:20171105T060000
END:STANDARD
END:VTIMEZONE
BEGIN:VEVENT
DTSTART;TZID=America/New_York:20160412T183000
DTEND;TZID=America/New_York:20160412T203000
DTSTAMP:20260422T100736
CREATED:20240210T053332Z
LAST-MODIFIED:20240210T053332Z
UID:20434-1460485800-1460493000@www.wsboces.org
SUMMARY:BOCES Board Meeting
DESCRIPTION:The Regular/Annual meeting of the Board of Western Suffolk BOCES will be held at the Western Suffolk BOCES Administrative Offices\, 507 Deer Park Road\, Dix Hills\, NY 11746.  The Regular meeting convenes at 6:30 pm in the Small Conference Room immediately followed by an Executive Session. The public portion resumes\, beginning with Item Number 1 on the Agenda\, at 7:30 pm in the Large Conference Room.  The Annual meeting commences at 8:00 pm.
URL:https://www.wsboces.org/event/boces-board-meeting-43/
LOCATION:NY
CATEGORIES:Central
END:VEVENT
BEGIN:VEVENT
DTSTART;VALUE=DATE:20160419
DTEND;VALUE=DATE:20160421
DTSTAMP:20260422T100736
CREATED:20240210T064418Z
LAST-MODIFIED:20240210T064418Z
UID:20565-1461024000-1461196799@www.wsboces.org
SUMMARY:Western Suffolk BOCES BUDGET VOTE
DESCRIPTION:Local school boards vote in their districts on the budget for Western Suffolk BOCES.
URL:https://www.wsboces.org/event/western-suffolk-boces-budget-vote/
LOCATION:NY
CATEGORIES:Central
END:VEVENT
BEGIN:VEVENT
DTSTART;VALUE=DATE:20160422
DTEND;VALUE=DATE:20160424
DTSTAMP:20260422T100736
CREATED:20240210T043609Z
LAST-MODIFIED:20240210T043609Z
UID:20263-1461283200-1461455999@www.wsboces.org
SUMMARY:Schools & Offices Closed
DESCRIPTION:
URL:https://www.wsboces.org/event/schools-offices-closed-9/
LOCATION:NY
CATEGORIES:Central
END:VEVENT
BEGIN:VEVENT
DTSTART;VALUE=DATE:20160425
DTEND;VALUE=DATE:20160428
DTSTAMP:20260422T100736
CREATED:20240210T040947Z
LAST-MODIFIED:20240210T040947Z
UID:20202-1461542400-1461801599@www.wsboces.org
SUMMARY:Offices Open: Schools Closed
DESCRIPTION:
URL:https://www.wsboces.org/event/offices-open-schools-closed-6/
LOCATION:NY
CATEGORIES:Central
END:VEVENT
END:VCALENDAR