BEGIN:VCALENDAR
VERSION:2.0
PRODID:-//Western Suffolk Boces - ECPv6.15.20//NONSGML v1.0//EN
CALSCALE:GREGORIAN
METHOD:PUBLISH
X-WR-CALNAME:Western Suffolk Boces
X-ORIGINAL-URL:https://www.wsboces.org
X-WR-CALDESC:Events for Western Suffolk Boces
REFRESH-INTERVAL;VALUE=DURATION:PT1H
X-Robots-Tag:noindex
X-PUBLISHED-TTL:PT1H
BEGIN:VTIMEZONE
TZID:America/New_York
BEGIN:DAYLIGHT
TZOFFSETFROM:-0500
TZOFFSETTO:-0400
TZNAME:EDT
DTSTART:20150308T070000
END:DAYLIGHT
BEGIN:STANDARD
TZOFFSETFROM:-0400
TZOFFSETTO:-0500
TZNAME:EST
DTSTART:20151101T060000
END:STANDARD
BEGIN:DAYLIGHT
TZOFFSETFROM:-0500
TZOFFSETTO:-0400
TZNAME:EDT
DTSTART:20160313T070000
END:DAYLIGHT
BEGIN:STANDARD
TZOFFSETFROM:-0400
TZOFFSETTO:-0500
TZNAME:EST
DTSTART:20161106T060000
END:STANDARD
BEGIN:DAYLIGHT
TZOFFSETFROM:-0500
TZOFFSETTO:-0400
TZNAME:EDT
DTSTART:20170312T070000
END:DAYLIGHT
BEGIN:STANDARD
TZOFFSETFROM:-0400
TZOFFSETTO:-0500
TZNAME:EST
DTSTART:20171105T060000
END:STANDARD
END:VTIMEZONE
BEGIN:VEVENT
DTSTART;VALUE=DATE:20160531
DTEND;VALUE=DATE:20160602
DTSTAMP:20260422T071314
CREATED:20240210T041020Z
LAST-MODIFIED:20240210T041020Z
UID:20204-1464652800-1464825599@www.wsboces.org
SUMMARY:Offices Open: Schools Closed
DESCRIPTION:
URL:https://www.wsboces.org/event/offices-open-schools-closed-8/
LOCATION:NY
CATEGORIES:Central
END:VEVENT
BEGIN:VEVENT
DTSTART;TZID=America/New_York:20160614T183000
DTEND;TZID=America/New_York:20160614T203000
DTSTAMP:20260422T071314
CREATED:20240210T053411Z
LAST-MODIFIED:20240210T053411Z
UID:20427-1465929000-1465936200@www.wsboces.org
SUMMARY:BOCES Board Meeting
DESCRIPTION:The Regular meeting of the Board of Western Suffolk BOCES will be held at the Western Suffolk BOCES Conference Center\, 31 Lee Avenue Wheatley Heights\, NY 11798.  The Regular meeting convenes at 6:30 pm in the Executive Conference Room I immediately followed by an Executive Session.  The public portion resumes\, beginning with Item Number 1 on the Agenda\, at 7:30 pm in the Seminar Room.  The Staff Recognition Ceremony will commence at 8:00 p.m. in the Large Conference Room.
URL:https://www.wsboces.org/event/boces-board-meeting-45/
LOCATION:NY
CATEGORIES:Central
END:VEVENT
BEGIN:VEVENT
DTSTART;VALUE=DATE:20160624
DTEND;VALUE=DATE:20160626
DTSTAMP:20260422T071314
CREATED:20240210T062444Z
LAST-MODIFIED:20240210T062444Z
UID:20536-1466726400-1466899199@www.wsboces.org
SUMMARY:Last Day of School
DESCRIPTION:
URL:https://www.wsboces.org/event/last-day-of-school/
LOCATION:NY
CATEGORIES:Central
END:VEVENT
END:VCALENDAR