BEGIN:VCALENDAR
VERSION:2.0
PRODID:-//Western Suffolk Boces - ECPv6.15.20//NONSGML v1.0//EN
CALSCALE:GREGORIAN
METHOD:PUBLISH
X-ORIGINAL-URL:https://www.wsboces.org
X-WR-CALDESC:Events for Western Suffolk Boces
REFRESH-INTERVAL;VALUE=DURATION:PT1H
X-Robots-Tag:noindex
X-PUBLISHED-TTL:PT1H
BEGIN:VTIMEZONE
TZID:America/New_York
BEGIN:DAYLIGHT
TZOFFSETFROM:-0500
TZOFFSETTO:-0400
TZNAME:EDT
DTSTART:20150308T070000
END:DAYLIGHT
BEGIN:STANDARD
TZOFFSETFROM:-0400
TZOFFSETTO:-0500
TZNAME:EST
DTSTART:20151101T060000
END:STANDARD
BEGIN:DAYLIGHT
TZOFFSETFROM:-0500
TZOFFSETTO:-0400
TZNAME:EDT
DTSTART:20160313T070000
END:DAYLIGHT
BEGIN:STANDARD
TZOFFSETFROM:-0400
TZOFFSETTO:-0500
TZNAME:EST
DTSTART:20161106T060000
END:STANDARD
BEGIN:DAYLIGHT
TZOFFSETFROM:-0500
TZOFFSETTO:-0400
TZNAME:EDT
DTSTART:20170312T070000
END:DAYLIGHT
BEGIN:STANDARD
TZOFFSETFROM:-0400
TZOFFSETTO:-0500
TZNAME:EST
DTSTART:20171105T060000
END:STANDARD
END:VTIMEZONE
BEGIN:VEVENT
DTSTART;VALUE=DATE:20161003
DTEND;VALUE=DATE:20161005
DTSTAMP:20260422T010811
CREATED:20240210T043649Z
LAST-MODIFIED:20240210T043649Z
UID:20267-1475452800-1475625599@www.wsboces.org
SUMMARY:Schools & Offices Closed
DESCRIPTION:
URL:https://www.wsboces.org/event/schools-offices-closed-13/
LOCATION:NY
CATEGORIES:Central
END:VEVENT
BEGIN:VEVENT
DTSTART;VALUE=DATE:20161004
DTEND;VALUE=DATE:20161006
DTSTAMP:20260422T010811
CREATED:20240210T041034Z
LAST-MODIFIED:20240210T041034Z
UID:20205-1475539200-1475711999@www.wsboces.org
SUMMARY:Offices Open: Schools Closed
DESCRIPTION:
URL:https://www.wsboces.org/event/offices-open-schools-closed-9/
LOCATION:NY
CATEGORIES:Central
END:VEVENT
BEGIN:VEVENT
DTSTART;TZID=America/New_York:20161006T183000
DTEND;TZID=America/New_York:20161006T203000
DTSTAMP:20260422T010811
CREATED:20240210T071757Z
LAST-MODIFIED:20240210T071757Z
UID:20601-1475778600-1475785800@www.wsboces.org
SUMMARY:JEA Jr/Sr HS Open School Night
DESCRIPTION:
URL:https://www.wsboces.org/event/jea-jr-sr-hs-open-school-night/
LOCATION:JEA Jr/Sr High School
CATEGORIES:Central
END:VEVENT
BEGIN:VEVENT
DTSTART;TZID=America/New_York:20161006T184500
DTEND;TZID=America/New_York:20161006T210000
DTSTAMP:20260422T010811
CREATED:20240210T071838Z
LAST-MODIFIED:20240210T071838Z
UID:20603-1475779500-1475787600@www.wsboces.org
SUMMARY:JEA Elementary Open School Night
DESCRIPTION:
URL:https://www.wsboces.org/event/jea-elementary-open-school-night/
LOCATION:JEA Elementary\, 762 Deer Park Rd\, Dix Hills\,\, New York\, NY\, 11746\, United States
CATEGORIES:Central
END:VEVENT
BEGIN:VEVENT
DTSTART;TZID=America/New_York:20161010T080000
DTEND;TZID=America/New_York:20161011T170000
DTSTAMP:20260422T010811
CREATED:20240210T043700Z
LAST-MODIFIED:20240210T043700Z
UID:20268-1476086400-1476205200@www.wsboces.org
SUMMARY:Schools & Offices Closed
DESCRIPTION:
URL:https://www.wsboces.org/event/schools-offices-closed-14/
LOCATION:NY
CATEGORIES:Central
END:VEVENT
BEGIN:VEVENT
DTSTART;VALUE=DATE:20161012
DTEND;VALUE=DATE:20161014
DTSTAMP:20260422T010811
CREATED:20240210T043712Z
LAST-MODIFIED:20240210T043712Z
UID:20269-1476230400-1476403199@www.wsboces.org
SUMMARY:Schools & Offices Closed
DESCRIPTION:
URL:https://www.wsboces.org/event/schools-offices-closed-15/
LOCATION:NY
CATEGORIES:Central
END:VEVENT
BEGIN:VEVENT
DTSTART;TZID=America/New_York:20161018T183000
DTEND;TZID=America/New_York:20161018T203000
DTSTAMP:20260422T010811
CREATED:20240210T054026Z
LAST-MODIFIED:20240210T054113Z
UID:20457-1476815400-1476822600@www.wsboces.org
SUMMARY:BOCES Board Meeting
DESCRIPTION:The Regular meeting of the Board of Western Suffolk BOCES will be held at the Western Suffolk BOCES Administrative Offices\, 507 Deer Park Road\, Dix Hills\, NY 11746.  The Regular meeting convenes at 6:30 pm in the Small Conference Room immediately followed by an Executive Session. The public portion resumes\, beginning with Item Number 1 on the Agenda\, at 7:30 pm in the Large Conference Room.
URL:https://www.wsboces.org/event/boces-board-meeting-49/
LOCATION:NY
CATEGORIES:Central
END:VEVENT
BEGIN:VEVENT
DTSTART;TZID=America/New_York:20161018T190000
DTEND;TZID=America/New_York:20161018T200000
DTSTAMP:20260422T010811
CREATED:20240210T071911Z
LAST-MODIFIED:20240210T071911Z
UID:20604-1476817200-1476820800@www.wsboces.org
SUMMARY:Wilson Tech Meet-the-Teacher
DESCRIPTION:Come meet your student’s teacher and tour Tech classroom and labs.
URL:https://www.wsboces.org/event/wilson-tech-meet-the-teacher/
LOCATION:All campuses of Wilson Tech
CATEGORIES:Central
END:VEVENT
BEGIN:VEVENT
DTSTART;TZID=America/New_York:20161018T190000
DTEND;TZID=America/New_York:20161018T203000
DTSTAMP:20260422T010811
CREATED:20240210T071948Z
LAST-MODIFIED:20240210T071948Z
UID:20605-1476817200-1476822600@www.wsboces.org
SUMMARY:Manor Plains HS Open School Night
DESCRIPTION:
URL:https://www.wsboces.org/event/manor-plains-hs-open-school-night/
LOCATION:Manor Plains School\, Huntington\, New York\, NY\, 11743\, United States
CATEGORIES:Central
END:VEVENT
END:VCALENDAR