BEGIN:VCALENDAR
VERSION:2.0
PRODID:-//Western Suffolk Boces - ECPv6.15.20//NONSGML v1.0//EN
CALSCALE:GREGORIAN
METHOD:PUBLISH
X-WR-CALNAME:Western Suffolk Boces
X-ORIGINAL-URL:https://www.wsboces.org
X-WR-CALDESC:Events for Western Suffolk Boces
REFRESH-INTERVAL;VALUE=DURATION:PT1H
X-Robots-Tag:noindex
X-PUBLISHED-TTL:PT1H
BEGIN:VTIMEZONE
TZID:America/New_York
BEGIN:DAYLIGHT
TZOFFSETFROM:-0500
TZOFFSETTO:-0400
TZNAME:EDT
DTSTART:20160313T070000
END:DAYLIGHT
BEGIN:STANDARD
TZOFFSETFROM:-0400
TZOFFSETTO:-0500
TZNAME:EST
DTSTART:20161106T060000
END:STANDARD
BEGIN:DAYLIGHT
TZOFFSETFROM:-0500
TZOFFSETTO:-0400
TZNAME:EDT
DTSTART:20170312T070000
END:DAYLIGHT
BEGIN:STANDARD
TZOFFSETFROM:-0400
TZOFFSETTO:-0500
TZNAME:EST
DTSTART:20171105T060000
END:STANDARD
BEGIN:DAYLIGHT
TZOFFSETFROM:-0500
TZOFFSETTO:-0400
TZNAME:EDT
DTSTART:20180311T070000
END:DAYLIGHT
BEGIN:STANDARD
TZOFFSETFROM:-0400
TZOFFSETTO:-0500
TZNAME:EST
DTSTART:20181104T060000
END:STANDARD
END:VTIMEZONE
BEGIN:VEVENT
DTSTART;VALUE=DATE:20170102
DTEND;VALUE=DATE:20170104
DTSTAMP:20260421T182538
CREATED:20240210T044441Z
LAST-MODIFIED:20240210T044441Z
UID:20288-1483315200-1483487999@www.wsboces.org
SUMMARY:Schools & Offices Closed
DESCRIPTION:
URL:https://www.wsboces.org/event/schools-offices-closed-19/
LOCATION:NY
CATEGORIES:Central
END:VEVENT
BEGIN:VEVENT
DTSTART;TZID=America/New_York:20170110T183000
DTEND;TZID=America/New_York:20170110T203000
DTSTAMP:20260421T182538
CREATED:20240210T054210Z
LAST-MODIFIED:20240210T054210Z
UID:20460-1484073000-1484080200@www.wsboces.org
SUMMARY:BOCES Board Meeting
DESCRIPTION:The Regular meeting of the Board of Western Suffolk BOCES will be held at the Western Suffolk BOCES Administrative Offices\, 507 Deer Park Road\, Dix Hills\, NY 11746.  The Regular meeting convenes at 6:30 pm in the Small Conference Room immediately followed by an Executive Session. The public portion resumes\, beginning with Item Number 1 on the Agenda\, at 7:30 pm in the Large Conference Room.
URL:https://www.wsboces.org/event/boces-board-meeting-52/
LOCATION:NY
CATEGORIES:Central
END:VEVENT
BEGIN:VEVENT
DTSTART;VALUE=DATE:20170116
DTEND;VALUE=DATE:20170118
DTSTAMP:20260421T182538
CREATED:20240210T044605Z
LAST-MODIFIED:20240210T044605Z
UID:20289-1484524800-1484697599@www.wsboces.org
SUMMARY:Schools & Offices Closed
DESCRIPTION:
URL:https://www.wsboces.org/event/schools-offices-closed-20/
LOCATION:NY
CATEGORIES:Central
END:VEVENT
BEGIN:VEVENT
DTSTART;TZID=America/New_York:20170120T080000
DTEND;TZID=America/New_York:20170120T110000
DTSTAMP:20260421T182538
CREATED:20240210T062826Z
LAST-MODIFIED:20240210T062826Z
UID:20549-1484899200-1484910000@www.wsboces.org
SUMMARY:Legislative Program
DESCRIPTION:Legislative Program\,\nWheatley Heights Conference Center\,\nLarge Conference Room
URL:https://www.wsboces.org/event/legislative-program-2/
LOCATION:NY
CATEGORIES:Central
END:VEVENT
END:VCALENDAR